BEGIN:VCALENDAR
VERSION:2.0
PRODID:-//The European Observatory on Memories of the University of Barcelona’s Solidarity Foundation - ECPv6.15.20//NONSGML v1.0//EN
CALSCALE:GREGORIAN
METHOD:PUBLISH
X-WR-CALNAME:The European Observatory on Memories of the University of Barcelona’s Solidarity Foundation
X-ORIGINAL-URL:https://europeanmemories.net
X-WR-CALDESC:Events for The European Observatory on Memories of the University of Barcelona’s Solidarity Foundation
REFRESH-INTERVAL;VALUE=DURATION:PT1H
X-Robots-Tag:noindex
X-PUBLISHED-TTL:PT1H
BEGIN:VTIMEZONE
TZID:Europe/Helsinki
BEGIN:DAYLIGHT
TZOFFSETFROM:+0200
TZOFFSETTO:+0300
TZNAME:EEST
DTSTART:20250330T010000
END:DAYLIGHT
BEGIN:STANDARD
TZOFFSETFROM:+0300
TZOFFSETTO:+0200
TZNAME:EET
DTSTART:20251026T010000
END:STANDARD
BEGIN:DAYLIGHT
TZOFFSETFROM:+0200
TZOFFSETTO:+0300
TZNAME:EEST
DTSTART:20260329T010000
END:DAYLIGHT
BEGIN:STANDARD
TZOFFSETFROM:+0300
TZOFFSETTO:+0200
TZNAME:EET
DTSTART:20261025T010000
END:STANDARD
BEGIN:DAYLIGHT
TZOFFSETFROM:+0200
TZOFFSETTO:+0300
TZNAME:EEST
DTSTART:20270328T010000
END:DAYLIGHT
BEGIN:STANDARD
TZOFFSETFROM:+0300
TZOFFSETTO:+0200
TZNAME:EET
DTSTART:20271031T010000
END:STANDARD
END:VTIMEZONE
BEGIN:VEVENT
DTSTART;VALUE=DATE:20261105
DTEND;VALUE=DATE:20261106
DTSTAMP:20260420T180704
CREATED:20260130T151835Z
LAST-MODIFIED:20260130T151835Z
UID:287193-1793836800-1793923199@europeanmemories.net
SUMMARY:World Tsunami Awareness Day 2026
DESCRIPTION:
URL:https://europeanmemories.net/event/world-tsunami-awareness-day-2026/
CATEGORIES:Commemorations
END:VEVENT
BEGIN:VEVENT
DTSTART;VALUE=DATE:20261109
DTEND;VALUE=DATE:20261116
DTSTAMP:20260420T180704
CREATED:20260130T151928Z
LAST-MODIFIED:20260130T151928Z
UID:287195-1794182400-1794787199@europeanmemories.net
SUMMARY:International Week of Science and Peace\, 9-15 November (2026)
DESCRIPTION:
URL:https://europeanmemories.net/event/international-week-of-science-and-peace-9-15-november-2026/
CATEGORIES:Commemorations
END:VEVENT
BEGIN:VEVENT
DTSTART;VALUE=DATE:20261110
DTEND;VALUE=DATE:20261111
DTSTAMP:20260420T180704
CREATED:20260130T152005Z
LAST-MODIFIED:20260130T152005Z
UID:287197-1794268800-1794355199@europeanmemories.net
SUMMARY:World Science Day for Peace and Development 2026
DESCRIPTION:
URL:https://europeanmemories.net/event/world-science-day-for-peace-and-development-2026/
CATEGORIES:Commemorations
END:VEVENT
BEGIN:VEVENT
DTSTART;VALUE=DATE:20261116
DTEND;VALUE=DATE:20261117
DTSTAMP:20260420T180704
CREATED:20260130T152050Z
LAST-MODIFIED:20260130T152050Z
UID:287199-1794787200-1794873599@europeanmemories.net
SUMMARY:International Day for Tolerance 2026
DESCRIPTION:
URL:https://europeanmemories.net/event/international-day-for-tolerance-2026/
CATEGORIES:Commemorations
END:VEVENT
BEGIN:VEVENT
DTSTART;VALUE=DATE:20261125
DTEND;VALUE=DATE:20261126
DTSTAMP:20260420T180704
CREATED:20260130T152142Z
LAST-MODIFIED:20260130T152142Z
UID:287201-1795564800-1795651199@europeanmemories.net
SUMMARY:International Day for the Elimination of Violence against Women 2026
DESCRIPTION:
URL:https://europeanmemories.net/event/international-day-for-the-elimination-of-violence-against-women-2026/
CATEGORIES:Commemorations
END:VEVENT
BEGIN:VEVENT
DTSTART;VALUE=DATE:20261129
DTEND;VALUE=DATE:20261130
DTSTAMP:20260420T180704
CREATED:20260130T152223Z
LAST-MODIFIED:20260130T152223Z
UID:287203-1795910400-1795996799@europeanmemories.net
SUMMARY:International Day of Solidarity with the Palestinian People 2026
DESCRIPTION:
URL:https://europeanmemories.net/event/international-day-of-solidarity-with-the-palestinian-people-2026/
CATEGORIES:Commemorations
END:VEVENT
END:VCALENDAR