BEGIN:VCALENDAR
VERSION:2.0
PRODID:-//The European Observatory on Memories of the University of Barcelona’s Solidarity Foundation - ECPv6.15.20//NONSGML v1.0//EN
CALSCALE:GREGORIAN
METHOD:PUBLISH
X-WR-CALNAME:The European Observatory on Memories of the University of Barcelona’s Solidarity Foundation
X-ORIGINAL-URL:https://europeanmemories.net
X-WR-CALDESC:Events for The European Observatory on Memories of the University of Barcelona’s Solidarity Foundation
REFRESH-INTERVAL;VALUE=DURATION:PT1H
X-Robots-Tag:noindex
X-PUBLISHED-TTL:PT1H
BEGIN:VTIMEZONE
TZID:Europe/Helsinki
BEGIN:DAYLIGHT
TZOFFSETFROM:+0200
TZOFFSETTO:+0300
TZNAME:EEST
DTSTART:20250330T010000
END:DAYLIGHT
BEGIN:STANDARD
TZOFFSETFROM:+0300
TZOFFSETTO:+0200
TZNAME:EET
DTSTART:20251026T010000
END:STANDARD
BEGIN:DAYLIGHT
TZOFFSETFROM:+0200
TZOFFSETTO:+0300
TZNAME:EEST
DTSTART:20260329T010000
END:DAYLIGHT
BEGIN:STANDARD
TZOFFSETFROM:+0300
TZOFFSETTO:+0200
TZNAME:EET
DTSTART:20261025T010000
END:STANDARD
BEGIN:DAYLIGHT
TZOFFSETFROM:+0200
TZOFFSETTO:+0300
TZNAME:EEST
DTSTART:20270328T010000
END:DAYLIGHT
BEGIN:STANDARD
TZOFFSETFROM:+0300
TZOFFSETTO:+0200
TZNAME:EET
DTSTART:20271031T010000
END:STANDARD
END:VTIMEZONE
BEGIN:VEVENT
DTSTART;VALUE=DATE:20261125
DTEND;VALUE=DATE:20261126
DTSTAMP:20260421T031440
CREATED:20260130T152142Z
LAST-MODIFIED:20260130T152142Z
UID:287201-1795564800-1795651199@europeanmemories.net
SUMMARY:International Day for the Elimination of Violence against Women 2026
DESCRIPTION:
URL:https://europeanmemories.net/event/international-day-for-the-elimination-of-violence-against-women-2026/
CATEGORIES:Commemorations
END:VEVENT
BEGIN:VEVENT
DTSTART;VALUE=DATE:20261129
DTEND;VALUE=DATE:20261130
DTSTAMP:20260421T031440
CREATED:20260130T152223Z
LAST-MODIFIED:20260130T152223Z
UID:287203-1795910400-1795996799@europeanmemories.net
SUMMARY:International Day of Solidarity with the Palestinian People 2026
DESCRIPTION:
URL:https://europeanmemories.net/event/international-day-of-solidarity-with-the-palestinian-people-2026/
CATEGORIES:Commemorations
END:VEVENT
BEGIN:VEVENT
DTSTART;VALUE=DATE:20261201
DTEND;VALUE=DATE:20261202
DTSTAMP:20260421T031440
CREATED:20260130T152251Z
LAST-MODIFIED:20260130T152251Z
UID:287205-1796083200-1796169599@europeanmemories.net
SUMMARY:World AIDS Day 2026
DESCRIPTION:
URL:https://europeanmemories.net/event/world-aids-day-2026/
CATEGORIES:Commemorations
END:VEVENT
BEGIN:VEVENT
DTSTART;VALUE=DATE:20261202
DTEND;VALUE=DATE:20261203
DTSTAMP:20260421T031440
CREATED:20260130T152320Z
LAST-MODIFIED:20260130T152320Z
UID:287208-1796169600-1796255999@europeanmemories.net
SUMMARY:International Day for the Abolition of Slavery 2026
DESCRIPTION:
URL:https://europeanmemories.net/event/international-day-for-the-abolition-of-slavery-2026/
CATEGORIES:Commemorations
END:VEVENT
BEGIN:VEVENT
DTSTART;VALUE=DATE:20261203
DTEND;VALUE=DATE:20261204
DTSTAMP:20260421T031440
CREATED:20260130T152350Z
LAST-MODIFIED:20260130T152350Z
UID:287210-1796256000-1796342399@europeanmemories.net
SUMMARY:International Day of Persons with Disabilities 2026
DESCRIPTION:
URL:https://europeanmemories.net/event/international-day-of-persons-with-disabilities-2026/
CATEGORIES:Commemorations
END:VEVENT
BEGIN:VEVENT
DTSTART;VALUE=DATE:20261209
DTEND;VALUE=DATE:20261210
DTSTAMP:20260421T031440
CREATED:20260130T155134Z
LAST-MODIFIED:20260130T155134Z
UID:287213-1796774400-1796860799@europeanmemories.net
SUMMARY:International Day of Commemoration and Dignity of the Victims of the Crime of Genocide and of the Prevention of this Crime
DESCRIPTION:
URL:https://europeanmemories.net/event/international-day-of-commemoration-and-dignity-of-the-victims-of-the-crime-of-genocide-and-of-the-prevention-of-this-crime/
CATEGORIES:Commemorations
END:VEVENT
BEGIN:VEVENT
DTSTART;VALUE=DATE:20261210
DTEND;VALUE=DATE:20261211
DTSTAMP:20260421T031440
CREATED:20260130T155212Z
LAST-MODIFIED:20260130T155212Z
UID:287215-1796860800-1796947199@europeanmemories.net
SUMMARY:Human Rights Day 2026
DESCRIPTION:
URL:https://europeanmemories.net/event/human-rights-day-2026/
CATEGORIES:Commemorations
END:VEVENT
BEGIN:VEVENT
DTSTART;VALUE=DATE:20261214
DTEND;VALUE=DATE:20261215
DTSTAMP:20260421T031440
CREATED:20260130T155254Z
LAST-MODIFIED:20260130T155254Z
UID:287217-1797206400-1797292799@europeanmemories.net
SUMMARY:International Day against Colonialism in All its Forms and Manifestations (2026)
DESCRIPTION:
URL:https://europeanmemories.net/event/international-day-against-colonialism-in-all-its-forms-and-manifestations-2026/
CATEGORIES:Commemorations
END:VEVENT
BEGIN:VEVENT
DTSTART;VALUE=DATE:20261218
DTEND;VALUE=DATE:20261219
DTSTAMP:20260421T031440
CREATED:20260130T155329Z
LAST-MODIFIED:20260130T155329Z
UID:287219-1797552000-1797638399@europeanmemories.net
SUMMARY:International Migrants Day 2026
DESCRIPTION:
URL:https://europeanmemories.net/event/international-migrants-day-2026/
CATEGORIES:Commemorations
END:VEVENT
BEGIN:VEVENT
DTSTART;VALUE=DATE:20261220
DTEND;VALUE=DATE:20261221
DTSTAMP:20260421T031440
CREATED:20260130T155413Z
LAST-MODIFIED:20260130T155413Z
UID:287221-1797724800-1797811199@europeanmemories.net
SUMMARY:International Human Solidarity Day 2026
DESCRIPTION:
URL:https://europeanmemories.net/event/international-human-solidarity-day-2026/
CATEGORIES:Commemorations
END:VEVENT
END:VCALENDAR