BEGIN:VCALENDAR
VERSION:2.0
PRODID:-//The European Observatory on Memories of the University of Barcelona’s Solidarity Foundation - ECPv6.15.20//NONSGML v1.0//EN
CALSCALE:GREGORIAN
METHOD:PUBLISH
X-ORIGINAL-URL:https://europeanmemories.net
X-WR-CALDESC:Events for The European Observatory on Memories of the University of Barcelona’s Solidarity Foundation
REFRESH-INTERVAL;VALUE=DURATION:PT1H
X-Robots-Tag:noindex
X-PUBLISHED-TTL:PT1H
BEGIN:VTIMEZONE
TZID:Europe/Helsinki
BEGIN:DAYLIGHT
TZOFFSETFROM:+0200
TZOFFSETTO:+0300
TZNAME:EEST
DTSTART:20240331T010000
END:DAYLIGHT
BEGIN:STANDARD
TZOFFSETFROM:+0300
TZOFFSETTO:+0200
TZNAME:EET
DTSTART:20241027T010000
END:STANDARD
BEGIN:DAYLIGHT
TZOFFSETFROM:+0200
TZOFFSETTO:+0300
TZNAME:EEST
DTSTART:20250330T010000
END:DAYLIGHT
BEGIN:STANDARD
TZOFFSETFROM:+0300
TZOFFSETTO:+0200
TZNAME:EET
DTSTART:20251026T010000
END:STANDARD
BEGIN:DAYLIGHT
TZOFFSETFROM:+0200
TZOFFSETTO:+0300
TZNAME:EEST
DTSTART:20260329T010000
END:DAYLIGHT
BEGIN:STANDARD
TZOFFSETFROM:+0300
TZOFFSETTO:+0200
TZNAME:EET
DTSTART:20261025T010000
END:STANDARD
END:VTIMEZONE
BEGIN:VEVENT
DTSTART;VALUE=DATE:20250915
DTEND;VALUE=DATE:20250916
DTSTAMP:20260422T123625
CREATED:20250130T114605Z
LAST-MODIFIED:20250130T114629Z
UID:285415-1757894400-1757980799@europeanmemories.net
SUMMARY:International Day of Democracy
DESCRIPTION:
URL:https://europeanmemories.net/event/democracy-day-2025/
CATEGORIES:Commemorations
END:VEVENT
BEGIN:VEVENT
DTSTART;VALUE=DATE:20250918
DTEND;VALUE=DATE:20250919
DTSTAMP:20260422T123625
CREATED:20250130T114748Z
LAST-MODIFIED:20250130T114813Z
UID:285418-1758153600-1758239999@europeanmemories.net
SUMMARY:International Equal Pay Day
DESCRIPTION:
URL:https://europeanmemories.net/event/equal-pay-day/
CATEGORIES:Commemorations
END:VEVENT
BEGIN:VEVENT
DTSTART;VALUE=DATE:20250920
DTEND;VALUE=DATE:20250921
DTSTAMP:20260422T123625
CREATED:20250130T114903Z
LAST-MODIFIED:20250130T114903Z
UID:285421-1758326400-1758412799@europeanmemories.net
SUMMARY:World Cleanup Day
DESCRIPTION:
URL:https://europeanmemories.net/event/world-cleanup-day/
CATEGORIES:Commemorations
END:VEVENT
BEGIN:VEVENT
DTSTART;TZID=Europe/Helsinki:20250921T080000
DTEND;TZID=Europe/Helsinki:20250921T170000
DTSTAMP:20260422T123625
CREATED:20250130T115006Z
LAST-MODIFIED:20250130T115031Z
UID:285423-1758441600-1758474000@europeanmemories.net
SUMMARY:International Day of Peace
DESCRIPTION:
URL:https://europeanmemories.net/event/international-day-of-peace-2025/
CATEGORIES:Commemorations
END:VEVENT
BEGIN:VEVENT
DTSTART;VALUE=DATE:20250923
DTEND;VALUE=DATE:20250924
DTSTAMP:20260422T123625
CREATED:20250130T115235Z
LAST-MODIFIED:20250130T115235Z
UID:285426-1758585600-1758671999@europeanmemories.net
SUMMARY:International Day of Sign Languages
DESCRIPTION:
URL:https://europeanmemories.net/event/sign-languages-day-2025/
CATEGORIES:Commemorations
END:VEVENT
BEGIN:VEVENT
DTSTART;VALUE=DATE:20250926
DTEND;VALUE=DATE:20250927
DTSTAMP:20260422T123625
CREATED:20250130T115402Z
LAST-MODIFIED:20250130T115421Z
UID:285429-1758844800-1758931199@europeanmemories.net
SUMMARY:International Day for the Total Elimination of Nuclear Weapons
DESCRIPTION:
URL:https://europeanmemories.net/event/nuclear-weapons-elimination-day-2025/
CATEGORIES:Commemorations
END:VEVENT
END:VCALENDAR