BEGIN:VCALENDAR
VERSION:2.0
PRODID:-//The European Observatory on Memories of the University of Barcelona’s Solidarity Foundation - ECPv6.15.20//NONSGML v1.0//EN
CALSCALE:GREGORIAN
METHOD:PUBLISH
X-WR-CALNAME:The European Observatory on Memories of the University of Barcelona’s Solidarity Foundation
X-ORIGINAL-URL:https://europeanmemories.net
X-WR-CALDESC:Events for The European Observatory on Memories of the University of Barcelona’s Solidarity Foundation
REFRESH-INTERVAL;VALUE=DURATION:PT1H
X-Robots-Tag:noindex
X-PUBLISHED-TTL:PT1H
BEGIN:VTIMEZONE
TZID:Europe/Helsinki
BEGIN:DAYLIGHT
TZOFFSETFROM:+0200
TZOFFSETTO:+0300
TZNAME:EEST
DTSTART:20240331T010000
END:DAYLIGHT
BEGIN:STANDARD
TZOFFSETFROM:+0300
TZOFFSETTO:+0200
TZNAME:EET
DTSTART:20241027T010000
END:STANDARD
BEGIN:DAYLIGHT
TZOFFSETFROM:+0200
TZOFFSETTO:+0300
TZNAME:EEST
DTSTART:20250330T010000
END:DAYLIGHT
BEGIN:STANDARD
TZOFFSETFROM:+0300
TZOFFSETTO:+0200
TZNAME:EET
DTSTART:20251026T010000
END:STANDARD
BEGIN:DAYLIGHT
TZOFFSETFROM:+0200
TZOFFSETTO:+0300
TZNAME:EEST
DTSTART:20260329T010000
END:DAYLIGHT
BEGIN:STANDARD
TZOFFSETFROM:+0300
TZOFFSETTO:+0200
TZNAME:EET
DTSTART:20261025T010000
END:STANDARD
END:VTIMEZONE
BEGIN:VEVENT
DTSTART;VALUE=DATE:20250605
DTEND;VALUE=DATE:20250606
DTSTAMP:20260422T204023
CREATED:20250130T111424Z
LAST-MODIFIED:20250130T111424Z
UID:285398-1749081600-1749167999@europeanmemories.net
SUMMARY:World Environment Day
DESCRIPTION:
URL:https://europeanmemories.net/event/world-environment-day-2/
CATEGORIES:Commemorations
END:VEVENT
BEGIN:VEVENT
DTSTART;VALUE=DATE:20250612
DTEND;VALUE=DATE:20250613
DTSTAMP:20260422T204023
CREATED:20250603T092352Z
LAST-MODIFIED:20250603T092639Z
UID:286221-1749686400-1749772799@europeanmemories.net
SUMMARY:Accession Treaty of Spain to the European Economic Community: 40 years on
DESCRIPTION:
URL:https://europeanmemories.net/event/accession-treaty-of-spain-cee/
CATEGORIES:Commemorations
ATTACH;FMTTYPE=image/jpeg:https://europeanmemories.net/wp-content/uploads/sites/19/2025/06/adhesion-espana-portugal.jpg
END:VEVENT
BEGIN:VEVENT
DTSTART;VALUE=DATE:20250628
DTEND;VALUE=DATE:20250629
DTSTAMP:20260422T204023
CREATED:20250627T134329Z
LAST-MODIFIED:20250627T134329Z
UID:286313-1751068800-1751155199@europeanmemories.net
SUMMARY:International LGBTIQ+ Pride Day
DESCRIPTION:
URL:https://europeanmemories.net/event/pride-day-2025/
CATEGORIES:Commemorations
END:VEVENT
END:VCALENDAR