BEGIN:VCALENDAR
VERSION:2.0
PRODID:-//The European Observatory on Memories of the University of Barcelona’s Solidarity Foundation - ECPv6.15.20//NONSGML v1.0//EN
CALSCALE:GREGORIAN
METHOD:PUBLISH
X-WR-CALNAME:The European Observatory on Memories of the University of Barcelona’s Solidarity Foundation
X-ORIGINAL-URL:https://europeanmemories.net
X-WR-CALDESC:Events for The European Observatory on Memories of the University of Barcelona’s Solidarity Foundation
REFRESH-INTERVAL;VALUE=DURATION:PT1H
X-Robots-Tag:noindex
X-PUBLISHED-TTL:PT1H
BEGIN:VTIMEZONE
TZID:Europe/Helsinki
BEGIN:DAYLIGHT
TZOFFSETFROM:+0200
TZOFFSETTO:+0300
TZNAME:EEST
DTSTART:20240331T010000
END:DAYLIGHT
BEGIN:STANDARD
TZOFFSETFROM:+0300
TZOFFSETTO:+0200
TZNAME:EET
DTSTART:20241027T010000
END:STANDARD
BEGIN:DAYLIGHT
TZOFFSETFROM:+0200
TZOFFSETTO:+0300
TZNAME:EEST
DTSTART:20250330T010000
END:DAYLIGHT
BEGIN:STANDARD
TZOFFSETFROM:+0300
TZOFFSETTO:+0200
TZNAME:EET
DTSTART:20251026T010000
END:STANDARD
BEGIN:DAYLIGHT
TZOFFSETFROM:+0200
TZOFFSETTO:+0300
TZNAME:EEST
DTSTART:20260329T010000
END:DAYLIGHT
BEGIN:STANDARD
TZOFFSETFROM:+0300
TZOFFSETTO:+0200
TZNAME:EET
DTSTART:20261025T010000
END:STANDARD
END:VTIMEZONE
BEGIN:VEVENT
DTSTART;VALUE=DATE:20250503
DTEND;VALUE=DATE:20250504
DTSTAMP:20260422T221455
CREATED:20250130T110352Z
LAST-MODIFIED:20250130T110415Z
UID:285391-1746230400-1746316799@europeanmemories.net
SUMMARY:World Press Freedom Day
DESCRIPTION:
URL:https://europeanmemories.net/event/world-press-freedom-day-2025/
CATEGORIES:Commemorations
END:VEVENT
BEGIN:VEVENT
DTSTART;VALUE=DATE:20250508
DTEND;VALUE=DATE:20250509
DTSTAMP:20260422T221455
CREATED:20250130T110804Z
LAST-MODIFIED:20250509T143621Z
UID:285393-1746662400-1746748799@europeanmemories.net
SUMMARY:Time of Remembrance and Reconciliation for Those Who Lost Their Lives during the Second World War
DESCRIPTION:
URL:https://europeanmemories.net/event/time-of-remembrance-second-world-war-2025/
CATEGORIES:Commemorations
END:VEVENT
BEGIN:VEVENT
DTSTART;VALUE=DATE:20250509
DTEND;VALUE=DATE:20250510
DTSTAMP:20260422T221455
CREATED:20250508T223337Z
LAST-MODIFIED:20250509T143522Z
UID:285982-1746748800-1746835199@europeanmemories.net
SUMMARY:Europe Day
DESCRIPTION:
URL:https://europeanmemories.net/event/europe-day-2025/
CATEGORIES:Commemorations
END:VEVENT
BEGIN:VEVENT
DTSTART;VALUE=DATE:20250516
DTEND;VALUE=DATE:20250517
DTSTAMP:20260422T221455
CREATED:20250501T090818Z
LAST-MODIFIED:20250516T094506Z
UID:286094-1747353600-1747439999@europeanmemories.net
SUMMARY:Romani Resistance Day
DESCRIPTION:
URL:https://europeanmemories.net/event/romani-resistance-day-2025/
CATEGORIES:Commemorations
END:VEVENT
BEGIN:VEVENT
DTSTART;VALUE=DATE:20250521
DTEND;VALUE=DATE:20250522
DTSTAMP:20260422T221455
CREATED:20250130T111114Z
LAST-MODIFIED:20250130T111150Z
UID:285395-1747785600-1747871999@europeanmemories.net
SUMMARY:World Day for Cultural Diversity for Dialogue and Development
DESCRIPTION:
URL:https://europeanmemories.net/event/world-day-for-cultural-diversity-2025/
CATEGORIES:Commemorations
END:VEVENT
END:VCALENDAR