BEGIN:VCALENDAR
VERSION:2.0
PRODID:-//The European Observatory on Memories of the University of Barcelona’s Solidarity Foundation - ECPv6.15.20//NONSGML v1.0//EN
CALSCALE:GREGORIAN
METHOD:PUBLISH
X-WR-CALNAME:The European Observatory on Memories of the University of Barcelona’s Solidarity Foundation
X-ORIGINAL-URL:https://europeanmemories.net
X-WR-CALDESC:Events for The European Observatory on Memories of the University of Barcelona’s Solidarity Foundation
REFRESH-INTERVAL;VALUE=DURATION:PT1H
X-Robots-Tag:noindex
X-PUBLISHED-TTL:PT1H
BEGIN:VTIMEZONE
TZID:Europe/Helsinki
BEGIN:DAYLIGHT
TZOFFSETFROM:+0200
TZOFFSETTO:+0300
TZNAME:EEST
DTSTART:20240331T010000
END:DAYLIGHT
BEGIN:STANDARD
TZOFFSETFROM:+0300
TZOFFSETTO:+0200
TZNAME:EET
DTSTART:20241027T010000
END:STANDARD
BEGIN:DAYLIGHT
TZOFFSETFROM:+0200
TZOFFSETTO:+0300
TZNAME:EEST
DTSTART:20250330T010000
END:DAYLIGHT
BEGIN:STANDARD
TZOFFSETFROM:+0300
TZOFFSETTO:+0200
TZNAME:EET
DTSTART:20251026T010000
END:STANDARD
BEGIN:DAYLIGHT
TZOFFSETFROM:+0200
TZOFFSETTO:+0300
TZNAME:EEST
DTSTART:20260329T010000
END:DAYLIGHT
BEGIN:STANDARD
TZOFFSETFROM:+0300
TZOFFSETTO:+0200
TZNAME:EET
DTSTART:20261025T010000
END:STANDARD
END:VTIMEZONE
BEGIN:VEVENT
DTSTART;VALUE=DATE:20250201
DTEND;VALUE=DATE:20250208
DTSTAMP:20260423T030124
CREATED:20250129T171726Z
LAST-MODIFIED:20250129T171726Z
UID:285359-1738368000-1738972799@europeanmemories.net
SUMMARY:World Interfaith Harmony Week
DESCRIPTION:
URL:https://europeanmemories.net/event/world-interfaith-harmony-week/
CATEGORIES:Commemorations
END:VEVENT
BEGIN:VEVENT
DTSTART;VALUE=DATE:20250205
DTEND;VALUE=DATE:20250206
DTSTAMP:20260423T030124
CREATED:20250131T141039Z
LAST-MODIFIED:20250131T141039Z
UID:285490-1738713600-1738799999@europeanmemories.net
SUMMARY:Exile and Deportees Day (Catalonia)
DESCRIPTION:
URL:https://europeanmemories.net/event/exile-and-deportees-day-catalonia/
CATEGORIES:Commemorations
END:VEVENT
BEGIN:VEVENT
DTSTART;VALUE=DATE:20250212
DTEND;VALUE=DATE:20250213
DTSTAMP:20260423T030124
CREATED:20250129T172032Z
LAST-MODIFIED:20250129T172056Z
UID:285361-1739318400-1739404799@europeanmemories.net
SUMMARY:International Day for the Prevention of Violent Extremism as and when Conducive to Terrorism
DESCRIPTION:
URL:https://europeanmemories.net/event/international-day-for-the-prevention-of-violent-extremism/
CATEGORIES:Commemorations
END:VEVENT
BEGIN:VEVENT
DTSTART;VALUE=DATE:20250220
DTEND;VALUE=DATE:20250221
DTSTAMP:20260423T030124
CREATED:20250129T172139Z
LAST-MODIFIED:20250129T172351Z
UID:285364-1740009600-1740095999@europeanmemories.net
SUMMARY:World Day of Social Justice
DESCRIPTION:
URL:https://europeanmemories.net/event/world-day-of-social-justice-2/
CATEGORIES:Commemorations
END:VEVENT
END:VCALENDAR