BEGIN:VCALENDAR
VERSION:2.0
PRODID:-//The European Observatory on Memories of the University of Barcelona’s Solidarity Foundation - ECPv6.15.20//NONSGML v1.0//EN
CALSCALE:GREGORIAN
METHOD:PUBLISH
X-WR-CALNAME:The European Observatory on Memories of the University of Barcelona’s Solidarity Foundation
X-ORIGINAL-URL:https://europeanmemories.net
X-WR-CALDESC:Events for The European Observatory on Memories of the University of Barcelona’s Solidarity Foundation
REFRESH-INTERVAL;VALUE=DURATION:PT1H
X-Robots-Tag:noindex
X-PUBLISHED-TTL:PT1H
BEGIN:VTIMEZONE
TZID:Europe/Helsinki
BEGIN:DAYLIGHT
TZOFFSETFROM:+0200
TZOFFSETTO:+0300
TZNAME:EEST
DTSTART:20220327T010000
END:DAYLIGHT
BEGIN:STANDARD
TZOFFSETFROM:+0300
TZOFFSETTO:+0200
TZNAME:EET
DTSTART:20221030T010000
END:STANDARD
BEGIN:DAYLIGHT
TZOFFSETFROM:+0200
TZOFFSETTO:+0300
TZNAME:EEST
DTSTART:20230326T010000
END:DAYLIGHT
BEGIN:STANDARD
TZOFFSETFROM:+0300
TZOFFSETTO:+0200
TZNAME:EET
DTSTART:20231029T010000
END:STANDARD
BEGIN:DAYLIGHT
TZOFFSETFROM:+0200
TZOFFSETTO:+0300
TZNAME:EEST
DTSTART:20240331T010000
END:DAYLIGHT
BEGIN:STANDARD
TZOFFSETFROM:+0300
TZOFFSETTO:+0200
TZNAME:EET
DTSTART:20241027T010000
END:STANDARD
END:VTIMEZONE
BEGIN:VEVENT
DTSTART;VALUE=DATE:20230306
DTEND;VALUE=DATE:20230411
DTSTAMP:20260421T162542
CREATED:20230302T162029Z
LAST-MODIFIED:20230302T162133Z
UID:281191-1678060800-1681171199@europeanmemories.net
SUMMARY:Marxa 0 de La Retirada | Registration period
DESCRIPTION:“From Málaga to the Pyrenees”\nThe Socio-Cultural Association and Club Senderista La Desbandá\, togehter with the Catalan Association of Express Politics of Francoism\, the Amical of Former Guerrillers of Catalonia\, the Amical of the International Brigades\, the Mataró Historical Memory Research Group\, the Memorial du Camp d’Argelès-sur-Mer\, and the EUROM (European Observatory on Memories)\, promotes a memorial march of the 1939 Retreat (La Retirada) following the main exile route from Barcelona to Portbou on the so-called Carretera de Francia. \nWe call it March 0 because we want to carry out a comprehensive march in 2024 and this year will serve as a meeting point for the largest number of memorialist\, republican and social groups before 2024.
URL:https://europeanmemories.net/event/marxa-0-de-la-retirada-registration-period/
CATEGORIES:2023,Activities
END:VEVENT
END:VCALENDAR