BEGIN:VCALENDAR
VERSION:2.0
PRODID:-//The European Observatory on Memories of the University of Barcelona’s Solidarity Foundation - ECPv6.15.20//NONSGML v1.0//EN
CALSCALE:GREGORIAN
METHOD:PUBLISH
X-WR-CALNAME:The European Observatory on Memories of the University of Barcelona’s Solidarity Foundation
X-ORIGINAL-URL:https://europeanmemories.net
X-WR-CALDESC:Events for The European Observatory on Memories of the University of Barcelona’s Solidarity Foundation
REFRESH-INTERVAL;VALUE=DURATION:PT1H
X-Robots-Tag:noindex
X-PUBLISHED-TTL:PT1H
BEGIN:VTIMEZONE
TZID:Europe/Helsinki
BEGIN:DAYLIGHT
TZOFFSETFROM:+0200
TZOFFSETTO:+0300
TZNAME:EEST
DTSTART:20220327T010000
END:DAYLIGHT
BEGIN:STANDARD
TZOFFSETFROM:+0300
TZOFFSETTO:+0200
TZNAME:EET
DTSTART:20221030T010000
END:STANDARD
BEGIN:DAYLIGHT
TZOFFSETFROM:+0200
TZOFFSETTO:+0300
TZNAME:EEST
DTSTART:20230326T010000
END:DAYLIGHT
BEGIN:STANDARD
TZOFFSETFROM:+0300
TZOFFSETTO:+0200
TZNAME:EET
DTSTART:20231029T010000
END:STANDARD
BEGIN:DAYLIGHT
TZOFFSETFROM:+0200
TZOFFSETTO:+0300
TZNAME:EEST
DTSTART:20240331T010000
END:DAYLIGHT
BEGIN:STANDARD
TZOFFSETFROM:+0300
TZOFFSETTO:+0200
TZNAME:EET
DTSTART:20241027T010000
END:STANDARD
END:VTIMEZONE
BEGIN:VEVENT
DTSTART;TZID=Europe/Helsinki:20230221T183000
DTEND;TZID=Europe/Helsinki:20230221T203000
DTSTAMP:20260421T162540
CREATED:20230216T155646Z
LAST-MODIFIED:20230227T123517Z
UID:280434-1677004200-1677011400@europeanmemories.net
SUMMARY:Seminar GEICP: Exiles\, memories and human rights. Border Crossing[s]
DESCRIPTION:Session: Border Crossing[s]\, with Michael Takeo Magauder (Henry Luce III Center for the Arts & Religion\, US) and Celeste Muñoz Martínez (EUROM – UNED).
URL:https://europeanmemories.net/event/exiles-memories-and-human-rights-border/
LOCATION:UPF – Campus Ciutadella\, C/ de Ramon Trias Fargas\, 25\, 27\, Barcelona\, 08005\, Spain
CATEGORIES:Activities
END:VEVENT
END:VCALENDAR